BEGIN:VCALENDAR
VERSION:2.0
PRODID:-//Barnwell Farmers Market - ECPv6.15.20//NONSGML v1.0//EN
CALSCALE:GREGORIAN
METHOD:PUBLISH
X-WR-CALNAME:Barnwell Farmers Market
X-ORIGINAL-URL:https://barnwellfarmersmarket.org
X-WR-CALDESC:Events for Barnwell Farmers Market
REFRESH-INTERVAL;VALUE=DURATION:PT1H
X-Robots-Tag:noindex
X-PUBLISHED-TTL:PT1H
BEGIN:VTIMEZONE
TZID:UTC
BEGIN:STANDARD
TZOFFSETFROM:+0000
TZOFFSETTO:+0000
TZNAME:UTC
DTSTART:20240101T000000
END:STANDARD
END:VTIMEZONE
BEGIN:VEVENT
DTSTART;TZID=UTC:20250304T110000
DTEND;TZID=UTC:20250304T130000
DTSTAMP:20260424T182127
CREATED:20250129T141317Z
LAST-MODIFIED:20250129T141447Z
UID:720-1741086000-1741093200@barnwellfarmersmarket.org
SUMMARY:SFMNP FARMER TRAINING - ALLENDALE
DESCRIPTION:The Seniors Farmers’ Market Nutrition Program (SFMNP) is designed to increase the consumption of fresh produce through farmers’ markets\, roadside stands\, and community supported agricultural programs by providing low-income seniors with access to locally grown fruits\, vegetables\, honey\, and herbs.This training is mandatory for any farmer who would like to participate in SFMNP for the 2025 season and has not had previous training. All trainings are in person only. The Barnwell Farmers Market manager has been trained and authorized by SCDA and DSS to provide this training. \n\n\n\nSign up here: https://forms.gle/8xgGdL5n6jrhh53w9
URL:https://barnwellfarmersmarket.org/event/sfmnp-farmer-training-allendale/
LOCATION:Allendale County Library Conference Room\, 297 Main Street North\, Allendale\, South Carolina\, 29812\, United States
ATTACH;FMTTYPE=application/pdf:https://barnwellfarmersmarket.org/wp-content/uploads/2025/01/SFMNP-Training-2-2.pdf
END:VEVENT
BEGIN:VEVENT
DTSTART;TZID=UTC:20250306T173000
DTEND;TZID=UTC:20250306T193000
DTSTAMP:20260424T182127
CREATED:20250128T214534Z
LAST-MODIFIED:20250128T220050Z
UID:709-1741282200-1741289400@barnwellfarmersmarket.org
SUMMARY:SFMNP FARMER TRAINING - BARNWELL
DESCRIPTION:The Seniors Farmers’ Market Nutrition Program (SFMNP) is designed to increase the consumption of fresh produce through farmers’ markets\, roadside stands\, and community supported agricultural programs by providing low-income seniors with access to locally grown fruits\, vegetables\, honey\, and herbs.This training is mandatory for any farmer who would like to participate in SFMNP for the 2025 season and has not had previous training. All trainings are in person only. The Barnwell Farmers Market manager has been trained and authorized by SCDA and DSS to provide this training. \n\n\n\nSign up here: https://forms.gle/8xgGdL5n6jrhh53w9
URL:https://barnwellfarmersmarket.org/event/sfmnp-farmer-training-barnwell-2/
LOCATION:Palmetto Innovation Center\, 218 Main Street\, Barnwell\, South Carolina\, 29812\, United States
ATTACH;FMTTYPE=application/pdf:https://barnwellfarmersmarket.org/wp-content/uploads/2025/01/SFMNP-Training-2-1.pdf
END:VEVENT
END:VCALENDAR