BEGIN:VCALENDAR
VERSION:2.0
PRODID:-//Barnwell Farmers Market - ECPv6.15.20//NONSGML v1.0//EN
CALSCALE:GREGORIAN
METHOD:PUBLISH
X-ORIGINAL-URL:https://barnwellfarmersmarket.org
X-WR-CALDESC:Events for Barnwell Farmers Market
REFRESH-INTERVAL;VALUE=DURATION:PT1H
X-Robots-Tag:noindex
X-PUBLISHED-TTL:PT1H
BEGIN:VTIMEZONE
TZID:UTC
BEGIN:STANDARD
TZOFFSETFROM:+0000
TZOFFSETTO:+0000
TZNAME:UTC
DTSTART:20240101T000000
END:STANDARD
END:VTIMEZONE
BEGIN:VEVENT
DTSTART;TZID=UTC:20250603T080000
DTEND;TZID=UTC:20250603T120000
DTSTAMP:20260424T153639
CREATED:20250425T170131Z
LAST-MODIFIED:20250425T170135Z
UID:795-1748937600-1748952000@barnwellfarmersmarket.org
SUMMARY:Tuesday Market
DESCRIPTION:Join us at the Barnwell Farmers Market every Tuesday\, May – Oct\, for a midweek market experience! Shop fresh\, seasonal produce\, homemade baked goods\, local honey\, farm fresh eggs\, handcrafted items\, and more—straight from local farmers and makers. It’s the perfect time to restock your kitchen and support small businesses close to home. \n\n\n\nSNAP/EBT accepted. Credit/debit tokens available at the market info table.WIC FMNP Vouchers accepted May – Sept with participating vendorsSFMNP (Senior) Vouchers accepted June – Oct with participating vendors \n\n\n\nFollow us on Facebook and Instagram for updates on weekly vendors and special market-day activities!
URL:https://barnwellfarmersmarket.org/event/tuesday-market-4/
LOCATION:Fuller Park\, 9987 Dunbarton Blvd.\, Barnwell\, South Carolina\, 29812\, United States
END:VEVENT
BEGIN:VEVENT
DTSTART;TZID=UTC:20250610T080000
DTEND;TZID=UTC:20250610T120000
DTSTAMP:20260424T153639
CREATED:20250425T170246Z
LAST-MODIFIED:20250425T170250Z
UID:797-1749542400-1749556800@barnwellfarmersmarket.org
SUMMARY:Tuesday Market
DESCRIPTION:Join us at the Barnwell Farmers Market every Tuesday\, May – Oct\, for a midweek market experience! Shop fresh\, seasonal produce\, homemade baked goods\, local honey\, farm fresh eggs\, handcrafted items\, and more—straight from local farmers and makers. It’s the perfect time to restock your kitchen and support small businesses close to home. \n\n\n\nSNAP/EBT accepted. Credit/debit tokens available at the market info table.WIC FMNP Vouchers accepted May – Sept with participating vendorsSFMNP (Senior) Vouchers accepted June – Oct with participating vendors \n\n\n\nFollow us on Facebook and Instagram for updates on weekly vendors and special market-day activities!
URL:https://barnwellfarmersmarket.org/event/tuesday-market-5/
LOCATION:Fuller Park\, 9987 Dunbarton Blvd.\, Barnwell\, South Carolina\, 29812\, United States
ATTACH;FMTTYPE=image/webp:https://barnwellfarmersmarket.org/wp-content/uploads/2023/01/marketsign-e1745600064875.webp
END:VEVENT
BEGIN:VEVENT
DTSTART;TZID=UTC:20250610T090000
DTEND;TZID=UTC:20250610T120000
DTSTAMP:20260424T153639
CREATED:20250425T181547Z
LAST-MODIFIED:20250425T181643Z
UID:802-1749546000-1749556800@barnwellfarmersmarket.org
SUMMARY:SC Plants the Seed
DESCRIPTION:Bring the kids and join us at the Barnwell Farmers Market for the SC Plants the Seed Program—a fun and educational family experience hosted in collaboration with the Barnwell County Library! \n\n\n\nEach program day features: \n\n\n\n\nFree book giveaways for children (while supplies last)\n\n\n\nHands-on craft activities that tie into literacy and healthy living\n\n\n\nNutrition education demos with tasty samples and take-home tips\n\n\n\n\nThis program is designed to promote early childhood literacy\, healthy eating habits\, and family engagement in the farmers market setting. \n\n\n\nAdmission is free\, and all ages are welcome. Don’t forget to stop by the market to shop for fresh local produce while you’re here!
URL:https://barnwellfarmersmarket.org/event/sc-plants-the-seed/
LOCATION:Fuller Park\, 9987 Dunbarton Blvd.\, Barnwell\, South Carolina\, 29812\, United States
END:VEVENT
BEGIN:VEVENT
DTSTART;TZID=UTC:20250617T103000
DTEND;TZID=UTC:20250617T120000
DTSTAMP:20260424T153639
CREATED:20250425T183616Z
LAST-MODIFIED:20250425T183629Z
UID:815-1750156200-1750161600@barnwellfarmersmarket.org
SUMMARY:Senior Lunch at the Market
DESCRIPTION:Seniors\, join us for Lunch at the Market—a special event to celebrate and encourage the use of the Senior Farmers Market Nutrition Program (SFMNP) vouchers! \n\n\n\nEnjoy a free lunch\, connect with friends\, and participate in a fun market activity while exploring fresh\, local produce and goods. This is a great opportunity to make the most of your vouchers\, support local farmers\, and enjoy a vibrant day at the market.
URL:https://barnwellfarmersmarket.org/event/senior-lunch-at-the-market/
LOCATION:Fuller Park\, 9987 Dunbarton Blvd.\, Barnwell\, South Carolina\, 29812\, United States
END:VEVENT
BEGIN:VEVENT
DTSTART;TZID=UTC:20250624T090000
DTEND;TZID=UTC:20250624T120000
DTSTAMP:20260424T153639
CREATED:20250425T181945Z
LAST-MODIFIED:20250425T181948Z
UID:805-1750755600-1750766400@barnwellfarmersmarket.org
SUMMARY:SC Plants the Seed
DESCRIPTION:Bring the kids and join us at the Barnwell Farmers Market for the SC Plants the Seed Program—a fun and educational family experience hosted in collaboration with the Barnwell County Library! \n\n\n\nEach program day features: \n\n\n\n\nFree book giveaways for children (while supplies last)\n\n\n\nHands-on craft activities that tie into literacy and healthy living\n\n\n\nNutrition education demos with tasty samples and take-home tips\n\n\n\n\nThis program is designed to promote early childhood literacy\, healthy eating habits\, and family engagement in the farmers market setting. \n\n\n\nAdmission is free\, and all ages are welcome. Don’t forget to stop by the market to shop for fresh local produce while you’re here!
URL:https://barnwellfarmersmarket.org/event/sc-plants-the-seed-2/
LOCATION:Fuller Park\, 9987 Dunbarton Blvd.\, Barnwell\, South Carolina\, 29812\, United States
END:VEVENT
BEGIN:VEVENT
DTSTART;TZID=UTC:20250708T090000
DTEND;TZID=UTC:20250708T120000
DTSTAMP:20260424T153639
CREATED:20250425T182231Z
LAST-MODIFIED:20250425T182233Z
UID:807-1751965200-1751976000@barnwellfarmersmarket.org
SUMMARY:SC Plants the Seed
DESCRIPTION:Bring the kids and join us at the Barnwell Farmers Market for the SC Plants the Seed Program—a fun and educational family experience hosted in collaboration with the Barnwell County Library! \n\n\n\nEach program day features: \n\n\n\n\nFree book giveaways for children (while supplies last)\n\n\n\nHands-on craft activities that tie into literacy and healthy living\n\n\n\nNutrition education demos with tasty samples and take-home tips\n\n\n\n\nThis program is designed to promote early childhood literacy\, healthy eating habits\, and family engagement in the farmers market setting. \n\n\n\nAdmission is free\, and all ages are welcome. Don’t forget to stop by the market to shop for fresh local produce while you’re here!
URL:https://barnwellfarmersmarket.org/event/sc-plants-the-seed-3/
LOCATION:Fuller Park\, 9987 Dunbarton Blvd.\, Barnwell\, South Carolina\, 29812\, United States
END:VEVENT
BEGIN:VEVENT
DTSTART;TZID=UTC:20250722T090000
DTEND;TZID=UTC:20250722T120000
DTSTAMP:20260424T153639
CREATED:20250425T182408Z
LAST-MODIFIED:20250425T182411Z
UID:809-1753174800-1753185600@barnwellfarmersmarket.org
SUMMARY:SC Plants the Seed
DESCRIPTION:Bring the kids and join us at the Barnwell Farmers Market for the SC Plants the Seed Program—a fun and educational family experience hosted in collaboration with the Barnwell County Library! \n\n\n\nEach program day features: \n\n\n\n\nFree book giveaways for children (while supplies last)\n\n\n\nHands-on craft activities that tie into literacy and healthy living\n\n\n\nNutrition education demos with tasty samples and take-home tips\n\n\n\n\nThis program is designed to promote early childhood literacy\, healthy eating habits\, and family engagement in the farmers market setting. \n\n\n\nAdmission is free\, and all ages are welcome. Don’t forget to stop by the market to shop for fresh local produce while you’re here!
URL:https://barnwellfarmersmarket.org/event/sc-plants-the-seed-4/
LOCATION:Fuller Park\, 9987 Dunbarton Blvd.\, Barnwell\, South Carolina\, 29812\, United States
END:VEVENT
BEGIN:VEVENT
DTSTART;TZID=UTC:20250812T090000
DTEND;TZID=UTC:20250812T120000
DTSTAMP:20260424T153639
CREATED:20250425T182525Z
LAST-MODIFIED:20250425T182529Z
UID:811-1754989200-1755000000@barnwellfarmersmarket.org
SUMMARY:SC Plants the Seed
DESCRIPTION:Bring the kids and join us at the Barnwell Farmers Market for the SC Plants the Seed Program—a fun and educational family experience hosted in collaboration with the Barnwell County Library! \n\n\n\nEach program day features: \n\n\n\n\nFree book giveaways for children (while supplies last)\n\n\n\nHands-on craft activities that tie into literacy and healthy living\n\n\n\nNutrition education demos with tasty samples and take-home tips\n\n\n\n\nThis program is designed to promote early childhood literacy\, healthy eating habits\, and family engagement in the farmers market setting. \n\n\n\nAdmission is free\, and all ages are welcome. Don’t forget to stop by the market to shop for fresh local produce while you’re here!
URL:https://barnwellfarmersmarket.org/event/sc-plants-the-seed-5/
LOCATION:Fuller Park\, 9987 Dunbarton Blvd.\, Barnwell\, South Carolina\, 29812\, United States
END:VEVENT
BEGIN:VEVENT
DTSTART;TZID=UTC:20250826T090000
DTEND;TZID=UTC:20250826T120000
DTSTAMP:20260424T153639
CREATED:20250425T182940Z
LAST-MODIFIED:20250425T182948Z
UID:813-1756198800-1756209600@barnwellfarmersmarket.org
SUMMARY:SC Plants the Seed
DESCRIPTION:Bring the kids and join us at the Barnwell Farmers Market for the SC Plants the Seed Program—a fun and educational family experience hosted in collaboration with the Barnwell County Library! \n\n\n\nEach program day features: \n\n\n\n\nFree book giveaways for children (while supplies last)\n\n\n\nHands-on craft activities that tie into literacy and healthy living\n\n\n\nNutrition education demos with tasty samples and take-home tips\n\n\n\n\nThis program is designed to promote early childhood literacy\, healthy eating habits\, and family engagement in the farmers market setting. \n\n\n\nAdmission is free\, and all ages are welcome. Don’t forget to stop by the market to shop for fresh local produce while you’re here!
URL:https://barnwellfarmersmarket.org/event/sc-plants-the-seed-6/
LOCATION:Fuller Park\, 9987 Dunbarton Blvd.\, Barnwell\, South Carolina\, 29812\, United States
END:VEVENT
BEGIN:VEVENT
DTSTART;TZID=UTC:20260219T173000
DTEND;TZID=UTC:20260219T203000
DTSTAMP:20260424T153639
CREATED:20260210T153351Z
LAST-MODIFIED:20260210T153358Z
UID:831-1771522200-1771533000@barnwellfarmersmarket.org
SUMMARY:Blessing of the Crops 2026
DESCRIPTION:It’s almost time for our 4th Annual Blessing of The Crops\, presented by AgSouth Farm Credit! This year’s event is almost sold out; be sure to get your tickets before it’s too late. \n\n\n\nWe want you to join us for our biggest agricultural event of the year\, featuring an oyster roast and fish fry you won’t want to miss this. We can’t wait to see everyone next Thursday\, February 19\, at Huckleberry Bay Barn! \n\n\n\nThis event brings together agriculture producers and supports of all kinds to pray for a bountiful harvest season. Come meet local farmers\, learn about what is happening in our agricultural sector\, and let’s break bread together. The Blessing of the Crops is presented by Ag South and organized by the Southern Palmetto Chamber and the Barnwell Farmers Market. Together let’s celebrate the hard work and dedication of our local farmers and honor what agriculture means to our community. \n\n\n\n\nGet Tickets
URL:https://barnwellfarmersmarket.org/event/blessing-of-the-crops-2026/
LOCATION:Huckleberry Bay Barn\, 280 April Road\, Barnwell\, South Carolina\, 29812\, United States
ATTACH;FMTTYPE=image/jpeg:https://barnwellfarmersmarket.org/wp-content/uploads/2026/02/blessings.jpg
END:VEVENT
BEGIN:VEVENT
DTSTART;TZID=UTC:20260609T100000
DTEND;TZID=UTC:20260609T120000
DTSTAMP:20260424T153639
CREATED:20260210T153523Z
LAST-MODIFIED:20260210T153534Z
UID:836-1780999200-1781006400@barnwellfarmersmarket.org
SUMMARY:SC Plants the Seed
DESCRIPTION:Bring the kids to the Barnwell Farmers Market for SC Plants the Seed—a fun and educational family experience hosted in collaboration with the Barnwell County Library! \n\n\n\nEach program day features: \n\n\n\n\nFree book giveaways (while supplies last)\n\n\n\nHands-on crafts\, games & activities\n\n\n\nTastings\, samples & demos\n\n\n\n\nThis program is designed to promote early childhood literacy\, healthy eating habits\, and family engagement in the farmers market setting. \n\n\n\nAdmission is free\, and all ages are welcome. Don’t forget to stop by the market to shop for fresh local produce while you’re here!
URL:https://barnwellfarmersmarket.org/event/sc-plants-the-seed-7/
LOCATION:Barnwell Farmers Market\, 9987 Dunbarton Blvd\, Barnwell\, South Carolina\, 29812\, United States
ATTACH;FMTTYPE=image/jpeg:https://barnwellfarmersmarket.org/wp-content/uploads/2026/02/SCPTS.jpeg
END:VEVENT
BEGIN:VEVENT
DTSTART;TZID=UTC:20260623T100000
DTEND;TZID=UTC:20260623T120000
DTSTAMP:20260424T153639
CREATED:20260210T155852Z
LAST-MODIFIED:20260210T155948Z
UID:845-1782208800-1782216000@barnwellfarmersmarket.org
SUMMARY:SC Plants the Seed
DESCRIPTION:Bring the kids to the Barnwell Farmers Market for SC Plants the Seed—a fun and educational family experience hosted in collaboration with the Barnwell County Library! \n\n\n\nEach program day features: \n\n\n\n\nFree book giveaways (while supplies last)\n\n\n\nHands-on crafts\, games & activities\n\n\n\nTastings\, samples & demos\n\n\n\n\nThis program is designed to promote early childhood literacy\, healthy eating habits\, and family engagement in the farmers market setting. \n\n\n\nAdmission is free\, and all ages are welcome. Don’t forget to stop by the market to shop for fresh local produce while you’re here!
URL:https://barnwellfarmersmarket.org/event/sc-plants-the-seed-8/
LOCATION:Barnwell Farmers Market\, 9987 Dunbarton Blvd\, Barnwell\, South Carolina\, 29812\, United States
ATTACH;FMTTYPE=image/jpeg:https://barnwellfarmersmarket.org/wp-content/uploads/2026/02/SCPTS.jpeg
END:VEVENT
END:VCALENDAR