BEGIN:VCALENDAR
VERSION:2.0
PRODID:-//Barnwell Farmers Market - ECPv6.15.20//NONSGML v1.0//EN
CALSCALE:GREGORIAN
METHOD:PUBLISH
X-ORIGINAL-URL:https://barnwellfarmersmarket.org
X-WR-CALDESC:Events for Barnwell Farmers Market
REFRESH-INTERVAL;VALUE=DURATION:PT1H
X-Robots-Tag:noindex
X-PUBLISHED-TTL:PT1H
BEGIN:VTIMEZONE
TZID:UTC
BEGIN:STANDARD
TZOFFSETFROM:+0000
TZOFFSETTO:+0000
TZNAME:UTC
DTSTART:20240101T000000
END:STANDARD
END:VTIMEZONE
BEGIN:VEVENT
DTSTART;TZID=UTC:20250617T103000
DTEND;TZID=UTC:20250617T120000
DTSTAMP:20260424T155137
CREATED:20250425T183616Z
LAST-MODIFIED:20250425T183629Z
UID:815-1750156200-1750161600@barnwellfarmersmarket.org
SUMMARY:Senior Lunch at the Market
DESCRIPTION:Seniors\, join us for Lunch at the Market—a special event to celebrate and encourage the use of the Senior Farmers Market Nutrition Program (SFMNP) vouchers! \n\n\n\nEnjoy a free lunch\, connect with friends\, and participate in a fun market activity while exploring fresh\, local produce and goods. This is a great opportunity to make the most of your vouchers\, support local farmers\, and enjoy a vibrant day at the market.
URL:https://barnwellfarmersmarket.org/event/senior-lunch-at-the-market/
LOCATION:Fuller Park\, 9987 Dunbarton Blvd.\, Barnwell\, South Carolina\, 29812\, United States
END:VEVENT
END:VCALENDAR